BEGIN:VCALENDAR
VERSION:2.0
PRODID:-//Sandpoint Books - ECPv6.15.20//NONSGML v1.0//EN
CALSCALE:GREGORIAN
METHOD:PUBLISH
X-WR-CALNAME:Sandpoint Books
X-ORIGINAL-URL:https://www.sandpointbookstore.com
X-WR-CALDESC:Events for Sandpoint Books
REFRESH-INTERVAL;VALUE=DURATION:PT1H
X-Robots-Tag:noindex
X-PUBLISHED-TTL:PT1H
BEGIN:VTIMEZONE
TZID:America/Los_Angeles
BEGIN:DAYLIGHT
TZOFFSETFROM:-0800
TZOFFSETTO:-0700
TZNAME:PDT
DTSTART:20240310T100000
END:DAYLIGHT
BEGIN:STANDARD
TZOFFSETFROM:-0700
TZOFFSETTO:-0800
TZNAME:PST
DTSTART:20241103T090000
END:STANDARD
BEGIN:DAYLIGHT
TZOFFSETFROM:-0800
TZOFFSETTO:-0700
TZNAME:PDT
DTSTART:20250309T100000
END:DAYLIGHT
BEGIN:STANDARD
TZOFFSETFROM:-0700
TZOFFSETTO:-0800
TZNAME:PST
DTSTART:20251102T090000
END:STANDARD
BEGIN:DAYLIGHT
TZOFFSETFROM:-0800
TZOFFSETTO:-0700
TZNAME:PDT
DTSTART:20260308T100000
END:DAYLIGHT
BEGIN:STANDARD
TZOFFSETFROM:-0700
TZOFFSETTO:-0800
TZNAME:PST
DTSTART:20261101T090000
END:STANDARD
BEGIN:DAYLIGHT
TZOFFSETFROM:-0800
TZOFFSETTO:-0700
TZNAME:PDT
DTSTART:20270314T100000
END:DAYLIGHT
BEGIN:STANDARD
TZOFFSETFROM:-0700
TZOFFSETTO:-0800
TZNAME:PST
DTSTART:20271107T090000
END:STANDARD
END:VTIMEZONE
BEGIN:VEVENT
DTSTART;TZID=America/Los_Angeles:20250830T100000
DTEND;TZID=America/Los_Angeles:20250830T140000
DTSTAMP:20260423T123259
CREATED:20250816T170022Z
LAST-MODIFIED:20250816T171357Z
UID:415-1756548000-1756562400@www.sandpointbookstore.com
SUMMARY:Local Authors Day!
DESCRIPTION:Come meet local authors Jean Bans (Sips of Hemlock) and Tom Reppert (The Light at Midnight\, The Far Journey\, The Captured Girl\, Assassin 13) and while your here check out all the other local author’s wonderful books!  See you soon!
URL:https://www.sandpointbookstore.com/event/local-authors-day/
LOCATION:Sandpoint Books\, 321 N 2nd Ave\, Sandpoint\, ID\, 83864\, United States
ATTACH;FMTTYPE=image/jpeg:https://www.sandpointbookstore.com/wp-content/uploads/20250816_094940-1-scaled.jpg
END:VEVENT
BEGIN:VEVENT
DTSTART;VALUE=DATE:20250901
DTEND;VALUE=DATE:20250902
DTSTAMP:20260423T123259
CREATED:20250829T174349Z
LAST-MODIFIED:20250829T174349Z
UID:469-1756684800-1756771199@www.sandpointbookstore.com
SUMMARY:Labor Day Sale!
DESCRIPTION:Join us Labor Day\, September 1st for our Labor Day Sale! All kids and young adult books will be 10% off all day!
URL:https://www.sandpointbookstore.com/event/labor-day-sale/
LOCATION:Sandpoint Books\, 321 N 2nd Ave\, Sandpoint\, ID\, 83864\, United States
END:VEVENT
BEGIN:VEVENT
DTSTART;VALUE=DATE:20251129
DTEND;VALUE=DATE:20251130
DTSTAMP:20260423T123259
CREATED:20251124T174952Z
LAST-MODIFIED:20251124T174952Z
UID:483-1764374400-1764460799@www.sandpointbookstore.com
SUMMARY:Shop Small Saturday!
DESCRIPTION:Celebrate local with Sandpoint Books on Saturday\, November 29th! \n-10% Off On All Purchases \n-Raffle for Free Books- Earn a ticket for every $20 spent \n-Door Prizes- The first 25 kids through the door get a special surprise! \n-Community Story Chain- Help us begin a tale that will grow all December long \nSupport small\, shop local\, and share in the magic of stories this season!
URL:https://www.sandpointbookstore.com/event/shop-small-saturday/
LOCATION:Sandpoint Books\, 321 N 2nd Ave\, Sandpoint\, ID\, 83864\, United States
END:VEVENT
BEGIN:VEVENT
DTSTART;TZID=America/Los_Angeles:20251205T170000
DTEND;TZID=America/Los_Angeles:20251205T183000
DTSTAMP:20260423T123259
CREATED:20251124T175757Z
LAST-MODIFIED:20251124T175757Z
UID:489-1764954000-1764959400@www.sandpointbookstore.com
SUMMARY:Cozy Sweater Book Exchange
DESCRIPTION:Bring a wrapped book with a couple words describing it — Blind Date with a Book Style! \nSip warm cider while browsing the store and swapping stories. \nWear your coziest\, quirkiest\, or most festive sweater to add to the fun! \nOur Community Story Chain continues — add your line to the tale growing all December long. \n  \nCome celebrate the season with Sandpoint Books!
URL:https://www.sandpointbookstore.com/event/cozy-sweater-book-exchange/
END:VEVENT
BEGIN:VEVENT
DTSTART;TZID=America/Los_Angeles:20260227T143000
DTEND;TZID=America/Los_Angeles:20260227T153000
DTSTAMP:20260423T123259
CREATED:20260213T225540Z
LAST-MODIFIED:20260213T225540Z
UID:494-1772202600-1772206200@www.sandpointbookstore.com
SUMMARY:Kids Corner
DESCRIPTION:New at the Bookstore– Kids Corner! ✨\nWe’re so excited to launch our new monthly story-and-activity hour designed for young readers and creators alike.\nEach month\, we’ll gather for:\n-A thoughtfully chosen book\n-An activity or craft inspired by the story\n-A cozy\, creative space for kids to imagine\, make\, and explore!\nThis month\, we’re reading Marguerite Makes a Book and creating our own medieval bookmarks using feather quills and homemade ink — a little history\, a little art\, and a whole lot of wonder!\nAll ages welcome\, however kids K-3 may enjoy Kids Corner most.
URL:https://www.sandpointbookstore.com/event/kids-corner/
LOCATION:Sandpoint Books\, 321 N 2nd Ave\, Sandpoint\, ID\, 83864\, United States
CATEGORIES:Kids Corner
END:VEVENT
BEGIN:VEVENT
DTSTART;TZID=America/Los_Angeles:20260315T000100
DTEND;TZID=America/Los_Angeles:20260831T235900
DTSTAMP:20260423T123259
CREATED:20260309T232759Z
LAST-MODIFIED:20260309T232759Z
UID:499-1773532860-1788220740@www.sandpointbookstore.com
SUMMARY:Million Page Challenge for North Idaho
DESCRIPTION:Join Sandpoint Books in the Million Page Challenge for North Idaho through The Literacy Project of North Idaho! The challenge begins March 15! Sign up online here: https://www.theliteracyprojectni.org/reading-challenge
URL:https://www.sandpointbookstore.com/event/million-page-challenge-for-north-idaho/
END:VEVENT
END:VCALENDAR